BEGIN:VCALENDAR
VERSION:2.0
CALSCALE:GREGORIAN
METHOD:PUBLISH
BEGIN:VEVENT
SUMMARY:Apéro créatif - Été 2026
DTSTART:20260618T230000Z
DTEND:20260723T230000Z
DTSTAMP:20260419T230802Z
CATEGORIES:
DESCRIPTION:\n\n\nUN ESPACE DE CRÉATION DÉDIÉ AUX ADULTES\n\nApéros cr
 éatifs\n\nAdultes – 18 ans et +\n\n\n19 h à 20 h 30\n			 \n\n\nRejoig
 nez-nous pour un apéro créatif où exploration et plaisir sont les mots
  d’ordre. Venez créer et échanger dans une ambiance conviviale. Atel
 ier\, verre de vin et maïs soufflé inclus.\n\n				 \n\n30$ / membre\n\n
 35$ / non-membre\n				Inscription requise. Places limitées. \n\n				 \
 n\n\n\n\n\nExploration et techniques mixtes avec Catherine Hélie-Harvey
 \n\n18 juin 2026\n\nDécouvrez l’univers foisonnant de l’artiste et c
 réez une illustration haute en couleur.\n\n				 \n\nDessin et maquette
  avec Maxime-Alexis Frappier\n\n9 juillet 2026\n\nInitiez-vous au dessin 
 architectural et à la création de maquettes avec l’architecte du CADD
 .\n\n\nAtelier en compagnie de l'artiste LeBicar\n\n23 juillet 2026\n\nIns
 pirez-vous du trait caractéristique de l'artiste LeBicar pour une soirée
  de création avec DJ.\n\n\n				 \n\n				 \n\n				 \n\n\n\n\nCrédit ph
 oto Joëlle Simard-Lapointe\n\n\n\n\n\n	 \n
LOCATION:11\, allée de la Création J6A 0C2 Repentigny - CA
ORGANIZER:Ville de Repentigny
END:VEVENT
END:VCALENDAR
