BEGIN:VCALENDAR
VERSION:2.0
CALSCALE:GREGORIAN
METHOD:PUBLISH
BEGIN:VEVENT
SUMMARY:Dia de los Muertos | Wednesday 29 October 2025 | KAMEA
DTSTART:20251029T200000Z
DTSTAMP:20260419T125620Z
CATEGORIES:
DESCRIPTION:Toma Ahí Events Presents: \nDía de los Muertos\n29 October |
  KAMEA - Brussels\nThe Ultimate Latin Party in Brussels!\nCelebrate Día d
 e los Muertos with us! Join Toma Ahí Events for a night filled with vibra
 nt music\, Latin rhythms\, and a spooky twist. Come in your best Día de l
 os Muertos costumes and enjoy a night of Bachata\, Salsa\, and Latin Mix u
 nder the glow of candles and sugar skull vibes.\nParty Starts at 9 PM!DJ S
 EV & DJ GEEZEE JAY spinning the best Latin beats!Special Mojito for only 
 €10Corona Bucket (5 Coronas) for €25\nCostumes are welcome!Get creativ
 e and show up in your best Día de los Muertos attire — the best costume
  will receive a special prize!\nSpecial Décor & Sweet Treats!Immerse your
 self in the Día de los Muertos ambiance with spooky decorations\, and enj
 oy some delicious candy to satisfy your sweet tooth as you dance the night
  away.\nJoin us for a night full of:\n\n\nGreat music\n\n\nCool people\n\n
 \nDelicious cocktails\n\n\nA perfect 100% Latin Vibe with air conditioning
  to keep dancers fresh all night.\n\n\nLocation:KAMEA – 3 Rue Franklin\,
  1000 Brussels(Metro Schuman)\nDon’t miss out on the most vibrant party 
 in Brussels!\n\nSocial corner & bar with terrace\n\nFollow us | Suivez-nou
 s :\n@bachatatomahi@rickynandabachata@nandabachata@rickymanuelofficial\n\n
 Join our WhatsApp group for updates & community chat:Click here to join\n\
 n \n
GEO:50.8442259;4.384363100000001
LOCATION:3 Rue Franklin 1000 Bruxelles - BE
ORGANIZER:Bachata Toma Ahí
END:VEVENT
END:VCALENDAR
