BEGIN:VCALENDAR
VERSION:2.0
CALSCALE:GREGORIAN
METHOD:PUBLISH
BEGIN:VEVENT
SUMMARY:ciné-club PÂKINO - La Calim - Caisse genevoise de l'alimentation
DTSTART:20260603T183000Z
DTEND:20260603T183000Z
DTSTAMP:20260423T154838Z
CATEGORIES:
DESCRIPTION:\nMercredi 3 juin – La Calim \n\n	La Caisse genevoise de l
 ’alimentation revient cette année avec l’objectif de proposer un film
  réalisé entre 2025 et 2026\, à Genève. Relatant l’expérimentation 
 menée par des habitant.es des Pâquis et d’ailleurs\, l’objectif de c
 e film est de rendre compte de cette expérience citoyenne où la santé\,
  la solidarité et la filière agricole locale permettent de repenser l’
 alimentation – de la fourche à la fourchette – selon le paradigme d
 ’une démocratie alimentaire.\n\nhttps://calim-ge.ch/         
                           \n\n	 \n
LOCATION:Rue du Môle 11 1201 Genève - CH
ORGANIZER:Maison de Quartier des Pâquis
END:VEVENT
END:VCALENDAR
