BEGIN:VCALENDAR
VERSION:2.0
CALSCALE:GREGORIAN
METHOD:PUBLISH
BEGIN:VEVENT
SUMMARY:Ordu-Giresun Havaş Otobüs Servis Saatleri
DTSTART:20251016T000000Z
DTSTAMP:20260425T164837Z
CATEGORIES:
DESCRIPTION:GÜNCEL HAVAŞ BİLGİLERİ İÇİN TIKLA\nOrdu‑Giresun Hava
 limanı’na yönelik Havaş otobüs servisleri\, Ordu ve Giresun şehir m
 erkezleri ile çevre ilçeleri birbirine bağlayan konforlu bir ulaşım s
 eçeneğidir. Terminalin şehirlerle ilişkisini güçlendiren bu servis h
 attı\, hem uçuş öncesi hem de uçuş sonrası ulaşımı kolaylaştır
 mak için tasarlanmıştır.\n\nServis hattı\, Ordu yönünden Ünye ve F
 atsa üzerinden havalimanına\; Giresun yönünden ise ilçeler (Espiye\, 
 Keşap\, Tirebolu\, Görele vb.) üzerinden havalimanına ve geri dönüş
  seferleri şeklinde çalışmaktadır. \nOrdu mer­kezi ile havalimanı 
 arasında seferler sabahın erken saatlerinden itibaren başlar. Örneğin
 \, Ordu (Kumbaşı) hattında günlük sabah 01:15’te başlayan servis\,
  gün boyu düzenli aralıklarla devam eder. Fatsa’dan yapılan seferler
  de benzer şekilde 00:45’ten başlayarak gün içinde 7–8 sefer aras
 ında sürer. Ünye yönünden de sabah çok erken saatlerde başlayan ser
 visler mevcuttur (örneğin 00:15 gibi) ve gün içerisinde farklı saatle
 re yayılmıştır.\nGiresun’dan havalimanına ulaşım isteyen yolcular
  için de sabah 00:00’dan itibaren servisler vardır\; örneğin 07:30\,
  11:30\, 14:45 gibi saatler popüler kalkış zamanlarıdır. Servis güze
 rgâhında Giresun’dan gelen araçlar Espiye\, Keşap\, Tirebolu\, Göre
 le gibi duraklardan da yolcu alır. \nYolculuk süreleri merkezi noktalar
 dan havalimanına ulaşımda yaklaşık:\n-Ordu şehir merkezinden ~ 25
 –45 dakika -Fatsa yönünden ~ 75 dakika-Ünye hattından ~ 95 daki
 ka -Giresun merkez ve ilçelerinden ~ 105–125 dakika arası \nÜcret
 ler güzergâha ve duraklara göre değişir.\nOrdu‑merkez hattında ~
  170 TL ücret uygulanırken\nFatsa hattı için ~ 260 TL\, Ünye hatt
 ı için ~ 340 TL \nAyrıca\, son dönemde yapılan fiyat güncellemesi
 nde Fatsa hattında 210 TL\, Ünye hattında 260 TL gibi ücretler uygulan
 maya başlanmıştır.\nBu servislerin kalkış/kazanıma koyma noktaları
  arasında Ordu’daki Üniversite\, Eski Otogar\, Yeni Otogar\, Rus Pazar
 ı\, Teleferik Üstgeçit\; Giresun hattında ise Espiye\, Keşap\, Tirebo
 lu\, Görele\, Eynesil gibi duraklar yer alır.\nÖzetle\, Ordu‑Giresun 
 Havaş servis saatleri oldukça geniş ve farklı şehir/ilçeleri kapsar.
  Ancak sefer saatleri\, güzergâhlar ve ücretler dönemsel olarak deği
 şebileceğinden\, yolculuk öncesinde 0850 222 0 487 numaralı çağrı m
 erkezi ya da Ordu Havaş’ın resmi web sitesi üzerinden güncel bilgile
 rin kontrol edilmesi önerilir.\n 
LOCATION:  
ORGANIZER:Ordu-Giresun Havaş Otobüs Servis Saatleri
END:VEVENT
END:VCALENDAR
