BEGIN:VCALENDAR
VERSION:2.0
CALSCALE:GREGORIAN
METHOD:PUBLISH
BEGIN:VEVENT
SUMMARY:Asia NOW 11th Edition 21 of October
DTSTART:20251021T070000Z
DTEND:20251021T180000Z
DTSTAMP:20260425T164838Z
CATEGORIES:
DESCRIPTION:\nAsia NOW is a curated art fair that amplifies the artistic v
 oices of Asia and its diaspora.\n\nAttuned to the dynamic shifts shaping c
 ontemporary art\, it champions the emergence of new cultural centers that 
 are defining today’s art landscape. More than a geography\, we see Asia 
 as a methodology\, a movement\, with a multi-centric approach that celebra
 tes global Asias for their communal spirit and collective practices. By fo
 stering critical engagement\, the fair becomes a space of encounter and ex
 change taking the spirit of a festival. \n\nhttp://asianowparis.com\n\nOc
 tober 21st to 26th 2025.\nMonnaie de Paris\, 11 Quai de Conti\, 6ème\n\n	
  \n\nTUESDAY 21 OCTOBER\n11:00 am – 2:00 pm | Collectors’ Brunch\n\n1
 2:00 pm | Matsutani Prize\nFinalists: Liang Fu (Nicodim gallery)\,  Da
 iga Grantina (Emalin)\, Séquoia Scavullo (sans titre)\,  Natsuko Uc
 hino (Galerie Allen\, Sorry we’re Closed). \nJury: Takesada Matsutani\,
  Kate Van Houten\, Nathanaëlle Herbelin\, Jean-Philippe Bourgeno\, Tom La
 urent\n\n1:00 pm | Under the Aegis of the Moon\nPerformance by Han Mengyun
  \nCurated by Arnaud Morand\, proposed by the French Agency for AlUla Deve
 lopment (AFALULA) and Arts AlUla.\nA commissioned performative installatio
 n weaving poetry and video\, evoking the quiet majesty of the moon. \n\n1:
 30 – 2:30 pm | Conversation \nReenactments of Lost Rhythms: Thinking Thr
 ough Resistance and Renewal\nPart of the Program Reenactments of Lost Rhyt
 hms\, presented by Colomboscope with Hajra Haider Karrar\, Guest Curator o
 f Colomboscope 9\, 2026\; Basir Mahmood\, Artist (Lahore/Amsterdam)\n\n2:3
 0 – 3:30 pm | Conversation \nWhen East meets East: The Rise of Inter-Asi
 an Dialogues in Contemporary Art\nJay Junghee Kim\, Cultural strategist\, 
 curator\, and founder of PUSH TO ENTER\; Mizuho Yamazaki Project Manager a
 nd Editorial Coordinator at AWARE\; Arnaud Morand\, Independent curator an
 d Head of Arts at AFALULA\; Han Mengyun\, Interdisciplinary and multimedia
  artist\, comparatist\, filmmaker\, poet and mother.\nModerator: Sophie Ma
 yuko\, Swiss-Japanese curator working between Japan and the UAE.\n\n3:00 -
  4:00 pm | from hand to hand to hands  \nA Performance\, a Reading\, a Sh
 aring by Fazal Rizvi & Baneen Mirza\nPart of the programe Of Mountains an
 d Seas\, curated by John Tain. Exploring memory\, touch\, and ritual\, the
  artists turn the preparation and shaping of dough into a poetic and culin
 ary gesture. \nWith the support of the Embassy of France in Pakistan and P
 akistan International Airlines.\n\n3:30 - 4:30 pm | Conversation \nBharti 
 Kher\, Mythologies\nBharti Kher\, artiste represented by Perrotin\, Hause
 r & Wirth\, and Nature Morte\; and Annette Johansen\, Director of the Thor
 valdsen Museum. Moderator:  Kathy Alliou\, Curator and Director of the Dep
 artment of Art Works\, Beaux-Arts de Paris\n\n5:00 pm | Under the Aegis of
  the Moon\nPerformance by Han Mengyun \n\n5:30 – 6:30 pm | Conversation 
 \nThe Edge is the New Centre: Experiments in Formats\nPresented by Art & 
 Ideas - an initiative by The Saudi Visual Arts Commission with Vittoria M
 atarrese Independent curator and Artistic Director of Riyadh Art Week\; J
 ohn Tain\, Curator Lahore Biennale 03\; Anissa Touati\, Independent curato
 r\, scholar at Brown University. Moderator: Arnaud Morand\, Independent cu
 rator and Head of Arts at AFALULA.\nPresented by Arts & Ideas - an initiat
 ive by the Saudi Visual Arts Commission.\n\n\n6:30 pm | Ghosts of Today an
 d Tomorrow\nPerformance by Ahaad Alamoudi\nA multi-sensory work engaging s
 ound and light to explore perception\, heritage\, and the interplay betwee
 n the contemporary and the ancestral. \nPresented by Arts & Ideas - an ini
 tiative by the Saudi Visual Arts Commission.\n\n	 \n\n\n6:30 pm | CINEMA
   NOW\nby NOWNESS  \n\nWEDNESDAY\, 22 OCTOBER\n10:00 am - 9:00 pm \n\
 nTHURSDAY 23 - SATURDAY \n\n25 OCTOBER\n10:00 am - 8:00 pm\n\nSUNDAY\, 26 
 OCTOBER\n10:00 am - 7:00 pm \n\n	 \n
LOCATION:11 Quai de Conti 75006 Paris - FR
ORGANIZER:ASIA NOW
END:VEVENT
END:VCALENDAR
