BEGIN:VCALENDAR
VERSION:2.0
CALSCALE:GREGORIAN
METHOD:PUBLISH
BEGIN:VEVENT
SUMMARY:CACC JINGLE BRAWL
DTSTART:20251206T180000Z
DTSTAMP:20260419T152225Z
CATEGORIES:
DESCRIPTION:
GEO:50.365985;3.0706083
LOCATION:Porte d'Arras 59500 Douai - FR
ORGANIZER:Catch As Catch Can
END:VEVENT
END:VCALENDAR
