BEGIN:VCALENDAR
VERSION:2.0
CALSCALE:GREGORIAN
METHOD:PUBLISH
BEGIN:VEVENT
SUMMARY:Studiedag SchaapAdvies najaar 2025
DTSTART:20251129T150000Z
DTEND:20251129T210000Z
DTSTAMP:20260420T065804Z
CATEGORIES:
DESCRIPTION:
GEO:51.2463711;4.1254366
LOCATION:11 Groenendijkstraat 9170 Sint-Gillis-Waas - BE
ORGANIZER:Groenendijk Dierenartsen
END:VEVENT
END:VCALENDAR
