BEGIN:VCALENDAR
VERSION:2.0
CALSCALE:GREGORIAN
METHOD:PUBLISH
BEGIN:VEVENT
SUMMARY:Masterclass Hyrox
DTSTART:20251115T120000Z
DTEND:20251115T140000Z
DTSTAMP:20260421T163812Z
CATEGORIES:
DESCRIPTION:Masterclass HYROX avec le champion du monde Joffrey Voisin\n 
 \nRejoins-nous le 15 novembre 2025 à Aquila Colomiers pour un séminaire 
 exceptionnel placé sous le signe de la performance et du partage !\n \nA
 u programme :\n2H DE MASTER CLASS AVEC JOFFREY VOISINCONSEILS D'ENTRAÎNEM
 ENT & DE PROGRESSIONGESTION DE LA DERNIERE SEMAINE AVANT L'EVENEMENTTRAVA
 IL TECHNIQUE & TIPS POUR GAGNER EN EFFICIENCEGROS ENTRAINEMENT HYROXTEMPS
  D'ÉCHANGE\, QUESTION RÉPONSE LIBRE\n \nObjectifs : progresser\, perfor
 mer et repartir avec des clés concrètes pour t’améliorer dans tes pro
 chaines compétitions HYROX.\n \nPlaces limitées :  ne tarde pas à ré
 server ta place pour vivre cette expérience unique !\n \nPowered by Wolf
 pack Society
GEO:43.6002575;1.3035777
LOCATION:21 Chemin de l'Echut 31770 Colomiers - FR
ORGANIZER:WolfPack Society
END:VEVENT
END:VCALENDAR
