BEGIN:VCALENDAR
VERSION:2.0
CALSCALE:GREGORIAN
METHOD:PUBLISH
BEGIN:VEVENT
SUMMARY:Atelier Gravure
DTSTART:20251004T080000Z
DTEND:20260418T070000Z
DTSTAMP:20260422T085046Z
CATEGORIES:
DESCRIPTION:La galerie  L'Art s'en mêle lance un nouveau rendez-vous cré
 atif : des ateliers de linogravure ouverts à toutes et tous\, une fois pa
 r  mois .\nLe prochain atelier aura lieu ce samedi 18 avril de 9h à 12h 
 .\nLors de cet atelier\, vous apprendrez à créer vos motifs et illustrat
 ions sur Tétrapak .\nGuidé(e) pas à pas\, vous explorerez les technique
 s de gravure \, et repartirez avec votre propre création unique. Un atel
 ier idéal pour laisser libre cours à votre créativité et découvrir un
  matériau original pour vos projets artistiques.\n \nCes ateliers sont u
 ne belle occasion d'expérimenter une pratique artistique accessible\, lud
 ique et riche en possibilités\, dans une ambiance conviviale au cœur de 
 la galerie.\n- Tarif :  30€ par personne  - Réservation obligatoire v
 ia Weezevent
GEO:16.2179911;-61.4896104
LOCATION: 97190 Le Gosier - GP
ORGANIZER:L'art s'en mêle
END:VEVENT
END:VCALENDAR
