BEGIN:VCALENDAR
VERSION:2.0
CALSCALE:GREGORIAN
METHOD:PUBLISH
BEGIN:VEVENT
SUMMARY:What Roles Do Temporary Workers Play in Creating Memorable Events?
DTSTART:20250909T190000Z
DTEND:20251031T235900Z
DTSTAMP:20260422T172709Z
CATEGORIES:
DESCRIPTION:Temporary workers play a crucial role in ensuring that events 
 run smoothly and leave a lasting impression on attendees. From setting up 
 venues to providing exceptional customer service\, these professionals are
  often the unseen force that makes every detail seamless. Their flexibilit
 y allows event organisers to scale staff numbers according to the size and
  complexity of the occasion\, ensuring no aspect is overlooked. Temporary 
 workers also bring specialised skills\, such as bartending\, waiting\, or 
 brand representation\, which enhance the overall guest experience. By enga
 ging staff who are not only capable but also personable\, events become mo
 re lively and interactive. Agencies like Brightsparks specialise in connec
 ting businesses with such talented temporary workers\, ensuring that every
  event benefits from high-quality personnel. Brightsparks’ focus on “p
 erformance with personality” guarantees that staff contribute positively
  to both the atmosphere and operational efficiency. For businesses\, using
  temporary workers through Brightsparks saves time and resources while mai
 ntaining professional standards. For workers\, it offers fun and flexible 
 opportunities\, particularly for students and young professionals looking 
 to gain experience. Temporary staff also adapt quickly to dynamic environm
 ents\, making them invaluable during last-minute changes or unexpected cha
 llenges. Their presence allows permanent staff to focus on core responsibi
 lities without stress\, improving the overall event flow. By bridging the 
 gap between businesses and capable staff\, Brightsparks ensures that tempo
 rary workers are integrated seamlessly into every event. The agency’s ex
 pertise in recruitment guarantees that the right people are placed in the 
 right roles at the right time. As a result\, events become more memorable\
 , enjoyable\, and professionally executed. Ultimately\, temporary workers 
 are not just support they are key contributors to creating experiences tha
 t guests remember fondly\, and Brightsparks makes that possible through t
 heir dedicated staffing solutions.
GEO:51.5069499;-0.1260138
LOCATION:8 Northumberland Avenue WC2N 5BY  - GB
END:VEVENT
END:VCALENDAR
