BEGIN:VCALENDAR
VERSION:2.0
CALSCALE:GREGORIAN
METHOD:PUBLISH
BEGIN:VEVENT
SUMMARY:Rencontre et dédicace de Maia Mazaurette 
DTSTART:20251003T170000Z
DTEND:20251003T180000Z
DTSTAMP:20260422T170745Z
CATEGORIES:
DESCRIPTION:\n	Depuis deux décennies\, Maïa Mazaurette étudie la sexual
 ité de ses contemporains. Selon elle\, l’imaginaire érotique est brid
 é. Par la charge mentale\, le poids de la culture\, les carcans de la por
 nographie\, la dark romance... Parce qu’elle est une « sexperte »\, Ma
 ïa a inventé une méthode : s’inspirant des philosophes grecs qui enco
 urageaient à se construire un palais de la mémoire pour y ranger les con
 naissances\, elle propose aux femmes (et aux hommes !) de s’inventer une
  maison close\, un lieu de plaisirs dédié à leurs fantasmes\, de se bâ
 tir une utopie intime et libératrice.\n\n\n		Cet essai graphique propose 
 l’exploration et la cartographie d’un territoire habituellement privé
 \, puisqu’entre ces pages la maison de Maïa est ouverte au public – c
 omme une invitation au rêve\, pour rebâtir un désir plus juste et plus 
 puissant.\n\n\n	 \n
LOCATION:23 rue de la Parcheminerie 35000 RENNES - FR
ORGANIZER:LIBRAIRIE LE FAILLER
END:VEVENT
END:VCALENDAR
