BEGIN:VCALENDAR
VERSION:2.0
CALSCALE:GREGORIAN
METHOD:PUBLISH
BEGIN:VEVENT
SUMMARY:Dans les bois
DTSTART:20260515T233000Z
DTEND:20260519T233000Z
DTSTAMP:20260423T213521Z
CATEGORIES:
DESCRIPTION:
LOCATION:100 rue Duquet J7E 4B2 Sainte-Thérèse - CA
ORGANIZER:Bureau de production
END:VEVENT
END:VCALENDAR
