BEGIN:VCALENDAR
VERSION:2.0
CALSCALE:GREGORIAN
METHOD:PUBLISH
BEGIN:VEVENT
SUMMARY:LA TRINCANTE COMEDY CLUB
DTSTART:20250909T183000Z
DTEND:20260630T183000Z
DTSTAMP:20260423T033813Z
CATEGORIES:
DESCRIPTION:
GEO:48.8914985;2.3477488
LOCATION:23 Rue Eugène Sue 75018 Paris - FR
ORGANIZER:La Trincante
END:VEVENT
END:VCALENDAR
