BEGIN:VCALENDAR
VERSION:2.0
CALSCALE:GREGORIAN
METHOD:PUBLISH
BEGIN:VEVENT
SUMMARY:Formation Web @ Font Romeu du 17 au 21 Novembre 2025 / 42 Perpigna
 n Occitanie
DTSTART:20251117T083000Z
DTEND:20251121T163000Z
DTSTAMP:20260422T075326Z
CATEGORIES:
DESCRIPTION:FORMATION WEB @ 42 PERPIGNAN OCCITANIE\nDERNIERES PLACES DISPO
 NIBLES ! Du 17 au 21 novembre 2025 – Font-Romeu\, Grand Hôtel de l’E
 rmitage\nEnvie de découvrir le code dans un cadre hors du commun ?\nDu 17
  au 21 novembre\, rejoignez-nous au Grand Hôtel de l’Ermitage\, perché
  en Cerdagne à Font-Romeu (66)\, pour une expérience immersive de 5 jour
 s où vous apprendrez la programmation web dans un environnement inspirant
  !\nPourquoi participer ?\n\n\nAucune connaissance préalable nécessaire 
 en informatique\n\n\n5 jours intensifs pour tous à partir de 18 ans\n\n\n
 Créez votre première page web avec HTML & CSS\n\n\nApprentissage collabo
 ratif entre pairs\, sans cours traditionnels\n\n\nExpérience pratique\, c
 oncrète et orientée projets\, avec au programme : utiliser et automatis
 er un système de fichiers\, concevoir avec HTML et CSS une première page
  web\, et découvrir le web dynamique avec Javascript.Imaginez : coder ave
 c vue\, respirer l’air pur de la montagne\, et partager l’expérience 
 avec d’autres curieux dans un lieu historique et majestueux…\nInfos pr
 atiques\nLieu : Grand Hôtel de l’Ermitage\, 7 Rte de l’Ermitage\, 662
 10 Font-Romeu-Odeillo-ViaHoraires : 9h30 - 17h30Inscription gratuite via l
 e formulaire indiqué (weezevent)Repas du midi sur place offert par nos pa
 rtenairesLogement et transport non compris.\n\nEn collaboration avec Franc
 e Travail \n\nAvec le soutien de : \n\nCCI Pyrénées-Orientales\nJosend
 e Bâtiment\nCommunauté de communes Pyrénées Catalanes\n\n\nÀ propos d
 e @42Perpignan :\nUne formation unique\, ouverte à tous dès 18 ans\, san
 s limite de niveau.Avec un taux d’employabilité de 100%\, notre méthod
 e favorise autonomie\, créativité et résolution de problèmes concrets.
 \nNe manquez pas cette occasion unique de plonger dans le monde fascinant 
 de la programmation dans un cadre exceptionnel !\n\nQuelques mots :\nCette
  formation web de 42 est une immersion de cinq jours\, au sein du campus d
 e 42 Perpignan Occitanie ou dans tout autre lieu inspirant\, pour plonger 
 les participants dans l’univers fascinant de la programmation web.\nL’
 objectif principal est de démystifier la programmation informatique aupr
 ès des participants\, de les initier à la méthode d’apprentissage aut
 odidacte et collaborative\, et de les immerger dans un environnement d’a
 pprentissage orienté sur la pratique.\nLe contenu est axé sur la program
 mation web\, comprenant des défis variés. Les participants sont confront
 és à des problèmes de complexité croissante\, pour les amener à crée
 r leur propre site web.\nC’est aussi la découverte de la méthode péda
 gogique de 42 : les participants sont encouragés à travailler de manièr
 e autonome\, à collaborer avec leurs pairs et à trouver des solutions ad
 aptées par tous les moyens disponibles.La méthode d’apprentissage est 
 axée sur la pratique\, l’expérimentation et la persévérance.\n\nForm
 at :\nLes participants se retrouvent tous dans la même salle et s’entra
 ident du début à la fin de la semaine.Chacun dispose d’un poste de tra
 vail avec un accès spécifique aux sujets de formation sélectionnés en 
 amont.Pas besoin de matériel spécifique hormis l’ordinateur fourni sur
  place.\n\n
GEO:42.6987104;2.8886805
LOCATION:7 route Ermitage 66120 Font Romeu Odeillo Via - FR
ORGANIZER:42 PERPIGNAN OCCITANIE
END:VEVENT
END:VCALENDAR
