BEGIN:VCALENDAR
VERSION:2.0
CALSCALE:GREGORIAN
METHOD:PUBLISH
BEGIN:VEVENT
SUMMARY:Taller pràctic: plantes d'interior
DTSTART:20260227T170000Z
DTSTAMP:20260420T141424Z
CATEGORIES:
DESCRIPTION:Taller pràctic: plantes d’interior\nAquest taller és una o
 portunitat única per aprendre a cuidar i mantenir les teues plantes d’i
 nterior\, perquè lluïsquen sanes i boniques durant tot l’any. Descobri
 ràs els secrets que fan possible que espècies tan populars com les orqu
 ídies\, falgueres\, pothos o sansevièries es mantinguen fortes i plenes 
 de vida a casa teua.\nQuè aprendràs?\n\n\nCuidar les teues plantes amb s
 eguretat: Coneixeràs les necessitats bàsiques de llum\, reg i substrat p
 er a cada tipus de planta d’interior.\n\n\nDetectar problemes a temps: A
 prendràs a identificar els símptomes més comuns de plagues i malalties 
 i a aplicar solucions senzilles i ecològiques.\n\n\nFer-les créixer i fl
 orir millor: Descobriràs trucs pràctics per estimular el creixement i\, 
 en plantes com les orquídies\, aconseguir floracions espectaculars.\n\n\n
 Crear un ambient saludable i estètic: Entendràs com les plantes milloren
  la qualitat de l’aire i transformen qualsevol espai en un lloc més aco
 llidor.\n\n\nPer què assistir?\nAquest taller no només et donarà coneix
 ements útils i fàcils d’aplicar\, sinó que també et permetrà compar
 tir experiències amb altres amants de les plantes. A més\, et portaras c
 onsells pràctics adaptats a les teues necessitats i a l’espai que tingu
 es a casa.\nInscripcions\nLes places són limitades. Reserva la teua plaç
 a avui mateix i aprén a cuidar les teues plantes d’interior com un aut
 èntic expert o experta!
GEO:40.8030562;0.5238991000000001
LOCATION: 43500 Tortosa - ES
ORGANIZER:Keio Jardins
END:VEVENT
END:VCALENDAR
