BEGIN:VCALENDAR
VERSION:2.0
CALSCALE:GREGORIAN
METHOD:PUBLISH
BEGIN:VEVENT
SUMMARY:Taller infantil: Crea el teu centre de taula amb flors preservades
DTSTART:20260321T100000Z
DTSTAMP:20260420T141351Z
CATEGORIES:
DESCRIPTION:Taller infantil de centres de taula amb flors preservades: cre
 a la teua decoració única\nEt presentem un taller especial per a xiquete
 s i xiquets de 6 a 14 anys\, on podran gaudir d’una activitat creativa i
  descobrir el món de les flors preservades\, creant el seu propi centre d
 e taula decoratiu.\nÉs una proposta dinàmica i adaptada a totes les edat
 s dins del grup. Tant els més petits com els més grans s’ho passen gen
 ial\, ja que treballem amb un enfocament proper i personalitzat segons l
 ’edat de cada infant.\nA més\, oferim un pack familiar perquè també e
 ls adults puguen sumar-se a l’experiència: en aquest cas\, l’adult ac
 ompanyant podrà fer un segon centre de taula i compartir el procés creat
 iu amb el seu xiquet o xiqueta\nQuè aprendràs?\n\nCom treballar amb flor
 s preservades pas a pas.\nCom combinar colors i textures per aconseguir un
 a composició equilibrada.\nTrucs per conservar el centre de taula durant 
 molt de temps.\nI\, sobretot\, a crear amb les mans\, cuidar el que es fa 
 i gaudir del procés.\n\nParticipació pràctica\nCada participant crearà
  el seu propi centre de taula des de zero. Tot el material està inclòs\,
  i podran triar flors i elements decoratius segons els seus gustos. Tant s
 i venen sols com en família\, tothom s’emportarà a casa una peça úni
 ca i especial\, feta per ell o ella mateixa.\nPer a qui és? \n\nPer a in
 fants i adolescents de 6 a 14 anys.\nEls acompanyants adults poden quedar-
 se durant el taller (no cal inscriure’s si no fan centre de taula).\nSi 
 l’infant té més de 9 anys\, també hi ha l'opció de quedar-se sol al 
 taller (amb autorització).\nLes famílies que vulguen compartir una activ
 itat creativa poden reservar el pack familiar amb dos centres de taula: un
  per a l’infant i un per a l’adult.\n\nPer què assistir?\nÉs una act
 ivitat ideal per:\n\nFomentar la creativitat i la connexió amb la natura.
 \nAprendre mentre es diverteixen.\nCompartir temps de qualitat en família
 .\nEmportar-se un record fet a mà\, amb valor emocional.\n\nInscripcions\
 nLes places són limitades\, així que no esperes més! Reserva la teua pl
 aça avui mateix i assegura't de no perdre aquesta oportunitat.
GEO:40.8030562;0.5238991000000001
LOCATION: 43500 Tortosa - ES
ORGANIZER:Keio Jardins
END:VEVENT
END:VCALENDAR
