BEGIN:VCALENDAR
VERSION:2.0
CALSCALE:GREGORIAN
METHOD:PUBLISH
BEGIN:VEVENT
SUMMARY:Taller de primers auxilis per a plantes
DTSTART:20260307T100000Z
DTSTAMP:20260420T141351Z
CATEGORIES:
DESCRIPTION:Si alguna vegada has desitjat tenir una vareta màgica per cui
 dar i curar les teues plantes\, aquest taller és per a tu!\nEn aquesta qu
 arta edició del taller de primers auxilis per a plantes\, et proporciona
 rem les eines i coneixements necessaris per convertir-te en un expert o ex
 perta en diagnòstic i cura de plantes. Aprendràs a identificar i solucio
 nar els problemes més comuns que afecten les teves plantes\, assegurant q
 ue creixin sanes i fortes.\nQuè aprendràs?\n\nDiagnòstic ràpid: Recone
 ix els senyals d'alarma i identifica els problemes més freqüents\, com a
 ra excessos o mancances d'aigua\, plagues\, malalties i deficiències nutr
 icionals.\nSolucions efectives: Descobreix com tractar cadascun d'aquests 
 problemes amb tècniques fàcils i productes que pots trobar a casa o a la
  teua botiga de jardineria.\nCures preventives: Consells i trucs per mante
 nir les teves plantes sanes i vigoroses\, evitant problemes futurs.\n\nPar
 ticipació pràctica\nEls participants tenen l'opció de portar una o dues
  plantes de casa per fer la pràctica durant el taller. Així\, podràs ap
 licar directament els coneixements adquirits a les teues pròpies plantes 
 i rebre assessorament personalitzat dels nostres experts.\nPer què assist
 ir? \nAquest taller no només et donarà els coneixements necessaris per c
 uidar millor les teues plantes\, sinó que també et permetrà connectar a
 mb altres amants de la jardineria\, compartir experiències i solucions\, 
 i enriquir la teua passió pel món verd.\nInscripcions\nLes places són l
 imitades\, així que no esperes més! Reserva la teua plaça avui mateix i
  assegura't de no perdre aquesta oportunitat per convertir-te en el millor
  amic o amiga de les teues plantes.
GEO:40.8030562;0.5238991000000001
LOCATION: 43500 Tortosa - ES
ORGANIZER:Keio Jardins
END:VEVENT
END:VCALENDAR
