BEGIN:VCALENDAR
VERSION:2.0
CALSCALE:GREGORIAN
METHOD:PUBLISH
BEGIN:VEVENT
SUMMARY:L'apéro des Frenchy\, à l'Hippodrome de la Côte d'Azur
DTSTART:20250905T160000Z
DTEND:20250905T213000Z
DTSTAMP:20260420T142930Z
CATEGORIES:
DESCRIPTION:\n\n		Coucou les Frenchy\,\n\n		L'été se termine en beauté 
 à l'Hippodrome de la Côte d'Azur avec une dernière édition en plein ai
 r de L'apéro des Frenchy le vendredi 5 septembre ! \n\n		Rendez-vous dè
 s 18h dans les jardins de l'hippodrome pour un apéro géant en extérieur
 \, dress code "Cowboy / Cowgirl" ! \n\n		De Dalida à Claude François\, 
 de Charles Aznavour à K-maro\, en passant par Céline Dion et Edith Piaf\
 , notre DJ vous distillera le meilleur de la chanson française .\n\n		De
  la food\, des copains\, du bon vin et le meilleur de la musique français
 e pour une soirée 100% festive  Préparez-vous à chanter à tue-tête 
 et à danser !\n\n		Dress code : Cowboy / Cowgirl \n		___\n Animations :
  Pétanque\, Photobox et surprises...\n\n Restauration : 8 prestataires l
 ocaux pour vous régaler !\n\n Suivez-nous sur instagram : @aperodesfrenc
 hy\nwww.instagram.com/aperodesfrenchy\n\n Enfants / mineurs non autorisé
 s\n\n Animaux de compagnie non autorisés \n\n Hippodrome de la Côte d
 'Azur\n		2 Boulevard Kennedy\n		06800 Cagnes-sur-mer \n\n\n	 \n
LOCATION:2 Boulevard Kennedy 06800 Cagnes-sur-Mer - FR
ORGANIZER:CMEA Consulting SAS
END:VEVENT
END:VCALENDAR
