BEGIN:VCALENDAR
VERSION:2.0
CALSCALE:GREGORIAN
METHOD:PUBLISH
BEGIN:VEVENT
SUMMARY:Cocktail de la rentrée 
DTSTART:20251008T213000Z
DTEND:20251009T013000Z
DTSTAMP:20260423T220418Z
CATEGORIES:
DESCRIPTION:\n	Comme nos petits futurs entrepreneurs.es et professionnels.
 les ont fait leur entrée\, eh bien\, c'est maintenant le temps aux grands
  entrepreneurs.es et professionnels.les de faire la leur!\n\n	Il nous fait
  plaisir de vous inviter au cocktail de la rentrée de la Jeune Chambre de
  Drummond chez Buropro Citation de Drummondville.\n\n	Venez prendre le tem
 ps de savourer un beau moment de réseautage tout en jasant de vos vacance
 s d'été\, de votre début d'année et de vos projets pour le futur.\n\n	
 Ce 5 à 7 festif se veut le moment pour partir l'année en grand et pour v
 enir découvrir une grande partie des activités proposées par la Jeune C
 hambre pour 2025-2026\, soit une année avec\, pour et par ses membres. No
 us souhaitons être plus près de vous et nous sommes là pour vous faire 
 rayonner!\n\n	 \n\n	Déroulement de la soirée:\n\n\n		17h30: accueil \n
 \n		18h00: mot de bienvenue par la nouvelle présidence du c.a et présent
 ation du nouveau c.a\n\n		18h10: présentation des activités de la JCD po
 ur 2025-2026\n\n		18h30\; réseautage\n\n\n	 \n\n	Ne vous inquiétez pas\
 , nous aurons de quoi vous désaltérer et de succulentes bouchées seront
  là pour combler votre petit creu!\n\n	Dans votre billet\, une consommati
 on et les bouchées sont comprises.\n\n	Pour les autres breuvages durant v
 otre soirée\, nous aurons en vente bières\, vin et breuvages non alcooli
 sées\, payable en argent comptant ou par carte débit ou crédit.\n\nRés
 ervez votre place avant le 30 septembre svp. MERCI!\n\n	 \n\n	Au plaisir 
 de vous accueillir\, de vous jaser et de festoyer avec vous\,\n\n	 \n\n	L
 es membres du c.a et la direction générale\n
LOCATION:765 boul. René-Lévesque J2C0G1 Drummondville - CA
ORGANIZER:Jeune Chambre de Drummond
END:VEVENT
END:VCALENDAR
