BEGIN:VCALENDAR
VERSION:2.0
CALSCALE:GREGORIAN
METHOD:PUBLISH
BEGIN:VEVENT
SUMMARY:Assemblée générale annuelle 2025
DTSTART:20250924T210000Z
DTEND:20250925T010000Z
DTSTAMP:20260423T232432Z
CATEGORIES:
DESCRIPTION:\n	À tous les membres de la Jeune Chambre de Drummond\,\n\n	
  \n\n	Il me fait plaisir de vous convoquer à la prochaine assemblée gé
 nérale annuelle de la Jeune Chambre de Drummond.\n\n	 \n\nDate : Mercre
 di 24 septembre 2025\n\nLieu : Local l’éphémère aux Promenades Drumm
 ondville\, entrée no 2 près du Sport Expert\n\nAccueil: à partir de 17
 h00 avec un cocktail de bienvenue et quelques bouchées\n\nAGA : 17h30\n\n
 Après AGA : réseautage : profitez-en pour vous désaltérer et quelques
  bouchées vous seront servies.\n\n	 \n\n	À cette assemblée\, vous aure
 z la chance d'y vivre avec nous la rétrospective de l'année 2024-2025.\n
 \n	Le rapport annuel ainsi que les États financiers vous y seront présen
 tés directement à l'AGA.\n\n	 \n\n	Pour pouvoir voter à cette assembl
 ée générale\, vous devez vous assurer que votre adhésion est toujours 
 valide ou si vous n'êtes pas encore membre\, nous vous invitons à rempli
 r le formulaire d'adhésion sur le site web de la Jeune Chambre\, dans la 
 section Devenir membre et ce\, avant le 19 septembre 2025.\n\n	N'oubliez p
 as d'avoir en main\, soit physiquement ou encore sur votre appareil mobile
 \, votre carte de membre afin de vérifier si votre adhésion est valide o
 u pas.\n\n	 \n\n	Au plaisir de vous rencontrer lors de cette occasion\, j
 e vous prie de recevoir l’expression de mes salutations les plus sincèr
 es\,\n\n	 \n\n	 \n\n	Anthony Caillé\n\n	Président\n
LOCATION:755 boul. René-Lévesque J2C6Y7 Drummondville - CA
ORGANIZER:Jeune Chambre de Drummond
END:VEVENT
END:VCALENDAR
