BEGIN:VCALENDAR
VERSION:2.0
CALSCALE:GREGORIAN
METHOD:PUBLISH
BEGIN:VEVENT
SUMMARY:Congrès IPAL 30 Octobre 2025 Metz
DTSTART:20251030T080000Z
DTEND:20251030T160000Z
DTSTAMP:20260422T041919Z
CATEGORIES:
DESCRIPTION:\n	L'URPS Idel organise son 4ème congrès en Pratique Avancé
 e Libérale\, le 30 octobre à l'hôtel de région-1 rue Gabriel Hocquard 
 à Metz.\n\n	Une caution de 20€ vous est demandée\, elle vous sera remb
 oursée après votre participation.\n\n	Venez nombreux pour échanger sur 
 la Pratique avancée ert ses perspectives.\n
LOCATION:1 place Gabriel HOCQUARD 57000 Metz - FR
ORGANIZER:URPS Infirmier Grand Est 
END:VEVENT
END:VCALENDAR
