BEGIN:VCALENDAR
VERSION:2.0
CALSCALE:GREGORIAN
METHOD:PUBLISH
BEGIN:VEVENT
SUMMARY:Masterclass aux Caves de mon Père
DTSTART:20251009T150000Z
DTEND:20251011T130000Z
DTSTAMP:20260419T130849Z
CATEGORIES:
DESCRIPTION:3 jours de Portes Ouvertes pour découvrir nos vignerons et fo
 urnisseurs ! Cette année encore\, nous avons mis en place pendant toute c
 ette période de salon\, des Masterclass sur les Vins & Spiritueux ! \nEl
 les seront animées par les représentants de chaque Maison et auront lieu
  chez notre voisin Vertical'Art. Elles sont gratuites mais les places sont
  limitées ! Il faut donc vous y inscrire. Et comme d'habitude\, -10% sur 
 toute la boutique (réservé aux particuliers) lors de nos portes ouvertes
 . \nVoici en avant première\, le programme :\nJEUDI 09 OCTOBRE \n\n 17
 hoo Les Vins de Bourgogne\n\nVENDREDI 10 OCTOBRE \n\n12hoo Les Blancs de 
 Loire\n17hoo Celtic Whisky Distillerie\n\nSAMEDI 12 OCTOBRE \n\n11hoo Pé
 pites des vins de Bordeaux\n15hoo Barton & Guestier Spécial Anniversaire 
 #BG300\n\nÀ vos inscriptions ! 
GEO:48.4274749;-4.4608394
LOCATION:8 Avenue Baron Lacrosse 29850 Gouesnou - FR
ORGANIZER:Les Caves de Mon Père
END:VEVENT
END:VCALENDAR
