BEGIN:VCALENDAR
VERSION:2.0
CALSCALE:GREGORIAN
METHOD:PUBLISH
BEGIN:VEVENT
SUMMARY:L'Atelier du Nouveau Monde
DTSTART:20260505T170000Z
DTEND:20260505T190000Z
DTSTAMP:20260426T012149Z
CATEGORIES:
DESCRIPTION:\n	L’atelier du nouveau monde | Jeune-Public\n\n\n\n\n\n\n\n
 \n\n									Opéra pour enfants\n\n\n\n\n\n\n\n\n\n\n\n\n\nSpectacle éli
 gible à la Carte Culture\n\n\n\n\n\n\n\n\n\n\n\n\n\n									 \n\nMusiqu
 e de Julien Joubert\n\n									Dans l’atelier du Nouveau Monde\, le vie
 ux Léonard de Vinci enseigne à ses apprentis les grandes découvertes du
  XVe siècle. Raphaël\, Titien\, Nostradamus\, Jacques Cartier\, Franço
 is Rabelais\, Clément Janequin et même François 1er\, sont parmi ses é
 lèves !\n\n									C’est l’histoire fictive d’un atelier où l’
 on imagine la rencontre durant l’enfance de tous ces brillants esprits n
 és à peu près au même moment\, sous la houlette du professeur le plus 
 prestigieux que l’on pourrait imaginer à l’époque : le génie human
 iste Léonard de Vinci.\n\n									L’occasion de faire découvrir au je
 une public à travers des récits pittoresques et humoristiques\, les gran
 des avancées de la Renaissance\, embryons des futures innovations des si
 ècles à venir.\n\nIllustré par les créations graphiques des étudiants
  du BTS DN-Made Graphisme augmenté du Lycée Jacques-Prévert\n\n\n\n\n\n
 Photographie © Flipenko\n\n\n\n\n\n\n\n\n\n\n\n\n\n									Chœur d’en
 fants Cycle 1 (3ème et 4ème années)\nValentin Dumaine\, adaptation et
  direction\nMarie Adam\, mise en scène\n\n\n\n\n\n\n\n\n\n	 \n
LOCATION:Conservatoire à Rayonnement Régional de Boulogne-Billancourt\, 
 22 rue de la Belle-Feuille 92100 Boulogne-Billancourt - FR
ORGANIZER:Conservatoire à Rayonnement Régional de Boulogne-Billancourt
END:VEVENT
END:VCALENDAR
