BEGIN:VCALENDAR
VERSION:2.0
CALSCALE:GREGORIAN
METHOD:PUBLISH
BEGIN:VEVENT
SUMMARY:Echo-Eco
DTSTART:20250707T080000Z
DTEND:20250727T160000Z
DTSTAMP:20260423T161242Z
CATEGORIES:
DESCRIPTION:Echo-Eco\n06.07 - 20.07.2025\nExposition collective avec \nAri
 elle Holt ( @.Arielle.Holtz )Camille Correas ( @.camillecorreas )Thyphanie
  Vallée ( @.typhx3 )\net la participation de\nEccu_mii ( @.i_are )lululat
 ex ( @.lululatex )Michelangelo\n“Pour cette exposition\, nous sommes par
 ties d’une envie commune : parler de l’avatar. Une figure en perpétue
 lle métamorphose\, issue du sanskrit avatāra\, signifiant « descente »
 \, une manifestation du sacré dans un monde en déséquilibre. Aujourd’
 hui dans notre culture occidentale\, il s’est délesté de sa charge spi
 rituelle pour s’ancrer dans des univers numériques et fantastiques. Il 
 est devenu une extension de soi\, un masque\, un espace de projection où 
 l’identité peut se réinventer.À travers nos univers respectifs\, nous
  interrogeons le sens de l’existence dans un monde qui nous aliène\, en
  résonance avec le contexte actuel marqué par une inquiétude grandissan
 te. Nos avatars sont des créatures hybrides\, traversées par des tension
 s à la fois intimes et collectives. Ce sont des figures d’émancipation
  et de transformation\, incarnant ainsi une politique du possible.”\nacc
 ès :- Métro M1 La Fourragère- Tram T1 La Grognarde- Bus 10 Bellevue- Bo
 rne vélo à 1min à pied
GEO:43.2994251;5.4353478
LOCATION:7 Boulevard Bel air 13012 Marseille - FR
ORGANIZER:Mastic
END:VEVENT
END:VCALENDAR
