BEGIN:VCALENDAR
VERSION:2.0
CALSCALE:GREGORIAN
METHOD:PUBLISH
BEGIN:VEVENT
SUMMARY:Summer Camp 2025 de 16 ans à 21 ans 
DTSTART:20250721T080000Z
DTEND:20250725T150000Z
DTSTAMP:20260425T163158Z
CATEGORIES:
DESCRIPTION:\n	 CDVOLLEY92 – SUMMER CAMP 2025 \n\nStage 100 % Beach Vo
 lley – Ouvert à toutes et à tous !\nDu 21 au 25 juillet 2025\nPour les
  jeunes de 16 à 21 ans\n\n	Que tu sois débutant·e ou joueur·se confirm
 é·e\, viens vivre une semaine inoubliable de beach volley encadrée par 
 des coachs diplômés et passionnés !\n\nTrois formules au choix\, selon 
 ton envie d'aventure :\n\n\nPack Bronze : 1 journée d’immersion\, avec 
 repas inclus\n\nPack Argent : la semaine complète (sans hébergement)\n\n
 Pack Or : stage complet avec hébergement 4 nuits au CREPS IDF\, activité
 s\, soirées\, et tournoi final\n\n\n	Entraînements\, fun\, esprit d’é
 quipe et souvenirs garantis !\n	⚠️ Places limitées – Réserve ton p
 ack dès maintenant !\n
LOCATION:139 Av. Roger Salengro 92290  Châtenay-Malabry - FR
ORGANIZER:CDVolley92
END:VEVENT
END:VCALENDAR
