BEGIN:VCALENDAR
VERSION:2.0
CALSCALE:GREGORIAN
METHOD:PUBLISH
BEGIN:VEVENT
SUMMARY:6ème rencontre sport santé séniors Vignoble
DTSTART:20251014T064500Z
DTEND:20251014T151500Z
DTSTAMP:20260419T190612Z
CATEGORIES:
DESCRIPTION:\nLe Département de Loire-Atlantique\, la commune de Clisson 
 et la Communauté Professionnelle Territoriale de Santé (CPTS) Sud Loire 
 Vignoble vous invitent à participer à une journée d’information et de
  sensibilisation autour du de l'activité physique adaptée et du Sports\
 , de la Santé\, pour le public "Seniors"\n\n	 \n\nAu programme : \n\n\n
 \n8h45 à 9h30 : Accueil espace l'Arlekino\n\n\n\n9h30 à 9h40 : échauffe
 ment collectif\n\n\n\n9h45 à 12h15 : activités physiques et sportives ad
 aptées\n\n\n\n12h15 à 13h30 : pause déjeuner\n\n\n\n13h45 à 16h45 : a
 ctivités santé\n\n\n\n16h45 à 17h15 clôture de la journée et verre de
  l'amitié\n\n\n17h15 : Fin de la 6ème rencontre sport santé seniors\n\n
 \nTransport en car gratuit proposé pour se rendre à cet évènement (Voi
 r les lieux et horaires de départ à choisir lors de votre inscription en
  ligne)\n\nDéjeuner proposé avec participation financière de 16\,50€ 
 par personne (valider votre participation en répondant OUI lors de votre
  inscription\, il faudra envoyer votre réglement par chèque -à l'ordre 
 de "le hall Lacroix"  - à l'adresse suivante : Délégation Vignoble\, 6
 ème rencontre Sport Santé Seniors\, Jacques BLANDIN. 2 cours des Marches
  de Bretagne\, 44190 CLISSON)\n\nPour tout renseignement complémentaire &
  si vous rencontrez des difficultés pour vous inscrire en ligne\, vous p
 ouvez contacter : \n\n\nJacques BLANDIN / 06.77.09.34.07. / jacques.bland
 in@loire-atlantique.fr\n\nAgathe DESMARS / 06.86.45.83.06. / agathe.desmar
 s@loire-atlantique.fr\n\n
LOCATION:Rue de la Dourie 44190 CLISSON - FR
ORGANIZER:DEPARTEMENT DE LOIRE-ATLANTIQUE
END:VEVENT
END:VCALENDAR
