BEGIN:VCALENDAR
VERSION:2.0
CALSCALE:GREGORIAN
METHOD:PUBLISH
BEGIN:VEVENT
SUMMARY:Déjeuner caritatif
DTSTART:20250624T100000Z
DTSTAMP:20260425T031222Z
CATEGORIES:
DESCRIPTION:
LOCATION:  
ORGANIZER:Business and Wedding School
END:VEVENT
END:VCALENDAR
