BEGIN:VCALENDAR
VERSION:2.0
CALSCALE:GREGORIAN
METHOD:PUBLISH
BEGIN:VEVENT
SUMMARY:Soirée Karaoké : faites vos vocalises !
DTSTART:20250617T163000Z
DTSTAMP:20260425T031318Z
CATEGORIES:
DESCRIPTION:Préparez vos vocalises avant le début de saison !\nVous vous
  êtes reposés cet hiver (haha!) ? Mais la saison est là et va vous dema
 nder toute votre énergie\, que ce soit pour appeler les invités pour les
  photos de groupe\, pour chauffer la piste de danse\, pour faire rentrer l
 es invités dans la salle ou pour animer une cérémonie.\nEt pour cela ri
 en de mieux que la préparer comme il se doit : avec un karaoké !\n \nRe
 joins pour ce nouvel atelier funky du Biz'Club décalé !\n \n2h de karao
 ké + 1 coktail + des petites choses à grignoter comprises !
GEO:44.851316;-0.5737281
LOCATION:36 Rue Cornac 33000 Bordeaux - FR
ORGANIZER:Business and Wedding School
END:VEVENT
END:VCALENDAR
