BEGIN:VCALENDAR
VERSION:2.0
CALSCALE:GREGORIAN
METHOD:PUBLISH
BEGIN:VEVENT
SUMMARY:Coffee\, Cake & Canvas - hosted by Schräge Palmen Club
DTSTART:20250608T090000Z
DTEND:20250608T110000Z
DTSTAMP:20260424T105649Z
CATEGORIES:
DESCRIPTION:Lust auf eine kleine Auszeit vom Alltag?\nKomm vorbei zu zwei
  entspannten Stunden voller Kreativität! Gemeinsam gestalten wir individu
 elle Leinwände mit Strukturpaste – ganz ohne Vorkenntnisse\, aber mit g
 anz viel Freude am Ausprobieren.\nIn gemütlicher Runde und mit inspiriere
 nden Materialien kannst du deiner Fantasie freien Lauf lassen\, neue Techn
 iken entdecken und einfach mal abschalten. Perfekt für einen entspannten 
 Sonntagmorgen\, der nach Kaffee duftet und sich nach echten Offline-Moment
 en anfühlt. \nIm Preis inbegriffen sind die Materialien sowie Getränke\
 , Kaffee und Kuchen – du musst nur noch vorbeikommen und loslegen.\n✨ 
 Stop scrolling\, start crafting – wir freuen uns auf dich!
GEO:48.1251705;11.5676546
LOCATION:8 Arndtstraße (Rückgebäude) 80469 München - DE
ORGANIZER:Schräge Palmen Club
END:VEVENT
END:VCALENDAR
