BEGIN:VCALENDAR
VERSION:2.0
CALSCALE:GREGORIAN
METHOD:PUBLISH
BEGIN:VEVENT
SUMMARY:Visite du Paris sulfureux : bordels et prostitution !
DTSTART:20260324T173000Z
DTEND:20260505T163000Z
DTSTAMP:20260422T163935Z
CATEGORIES:
DESCRIPTION:\nVisite du Paris sulfureux : bordels et prostitution !\n\nPar
 is était-il vraiment le "bordel de l'Europe" ? Si la prostitution existe 
 depuis les origines de la ville\, son histoire n'en est pas moins passionn
 ante et mouvementée\, reflet des évolutions politiques et sociales de la
  capitale. À travers cette visite unique\, je vous emmène dans le Paris 
 des bordels et de la prostitution  pour mieux comprendre l'histoire de ce
  Paris sulfureux. Une visite originale\, sur mesure et historique qui ne v
 ous laissera pas indifférent !\n\n	Au programme :\n\n	- Rendez-vous au ni
 veau de la Porte Saint-Denis 5 à 10 minutes avant le début de la visite\
 n	- Durée de la visite : environ 1h30\n	- Point d'arrivée : 6\, rue des 
 Moulins\, 75001\n\n	 \n\nS﻿uivez le guide !\n
LOCATION:Porte Saint-Denis - boulevard Saint-Denis 75010 Paris - FR
ORGANIZER:Histoire de Rue
END:VEVENT
END:VCALENDAR
