BEGIN:VCALENDAR
VERSION:2.0
CALSCALE:GREGORIAN
METHOD:PUBLISH
BEGIN:VEVENT
SUMMARY:Kilombo en dîner-concert à l’Aveyron Café
DTSTART:20250704T180000Z
DTSTAMP:20260420T141448Z
CATEGORIES:
DESCRIPTION:Kilombo orchestra et l’Aveyron Café vous invitent à un dî
 ner-concert le vendrdi 4 juillet à 20h.\nKilombo est une expression venue
  d’Argentine signifiant littéralement « joyeux bordel ».\nAu sein de 
 notre formation\, elle est synonyme de joie de vivre\, d’énergie débor
 dante et de vitalité contagieuse!La recette de la salsa bien épicée de 
 Kilombo repose sur des ingrédient ciselés en syncopes bien relevées. Le
  groupe fait revenir aux petits oignons le piano\, les cuivres\, les percu
 ssions. De quoi faire grésiller la poêle sur des sons de Ray Barretto\,
  Jimmy Bosch\, Willie Rosario\, El Gran Combo de Puerto Rico\, Oscar D’L
 eon\, Celia Cruz\, La Sonora Poncena\, entre autres...\n \nOn vous attend
  nombreux et nombreuses !\n \n \nNos réseaux sociaux :\nhttps://www.ins
 tagram.com/kilombo_orchestra_paris/ \nhttps://www.facebook.com/profile.ph
 p?id=100049256123787\n \nPour réserver une table\, pensez à appeler le
  01.46.20.35.15 !\n \nAttention\, cet événement était prévu à l’o
 rigine le 17 mai\, il a été reprogrammé. Kilombo ne jouera pas le 17 ma
 i\, mais bien le 4 juillet !
GEO:48.8335614;2.2544065
LOCATION:68 Avenue Pierre Grenier 92100 Boulogne-Billancourt - FR
END:VEVENT
END:VCALENDAR
