BEGIN:VCALENDAR
VERSION:2.0
CALSCALE:GREGORIAN
METHOD:PUBLISH
BEGIN:VEVENT
SUMMARY:Atélier EXPRIME Ton glowyyy intérieur ✨
DTSTART:20250531T130000Z
DTEND:20250531T160000Z
DTSTAMP:20260419T132751Z
CATEGORIES:
DESCRIPTION:Un moment créatif\, bienveillant et 100 % good vibes entre fe
 mmes !\nViens exprimer ton glow intérieur à travers la peinture\, même 
 si tu n’as jamais touché un pinceau !Ici\, pas de pression\, juste du l
 âcher-prise\, de la couleur et de l’authenticité.\nAu programme :✨Un
  atelier guidé dans une ambiance chaleureuse✨ Du partage\, de la musiqu
 e et de la douceur✨Une pause pour soi\, pour se reconnecter à sa lumiè
 re\nMatériel fourni – Aucune compétence artistique requise\nPlaces lim
 itées – Réservation obligatoire\nViens seule ou avec une amie\, mais s
 urtout viens comme tu es\, et repars boostée de good vibes et de créativ
 ité !
LOCATION:  Marseille - FR
ORGANIZER:glowMoms
END:VEVENT
END:VCALENDAR
