BEGIN:VCALENDAR
VERSION:2.0
CALSCALE:GREGORIAN
METHOD:PUBLISH
BEGIN:VEVENT
SUMMARY:Avant première Finale HMI HOUSE Nîmes
DTSTART:20250422T163000Z
DTSTAMP:20260421T131619Z
CATEGORIES:
DESCRIPTION:
GEO:43.831154;4.368655
LOCATION:Avenue de la Méditerranée 30000 Nîmes - FR
ORGANIZER:Oasis Media
END:VEVENT
END:VCALENDAR
