BEGIN:VCALENDAR
VERSION:2.0
CALSCALE:GREGORIAN
METHOD:PUBLISH
BEGIN:VEVENT
SUMMARY:Avant première Finale HMI HOUSE Le Mans
DTSTART:20250422T163000Z
DTSTAMP:20260421T131618Z
CATEGORIES:
DESCRIPTION:
GEO:48.049145;0.173106
LOCATION:Route d'Alencon 72650 Saint-Saturnin - FR
ORGANIZER:Oasis Media
END:VEVENT
END:VCALENDAR
