BEGIN:VCALENDAR
VERSION:2.0
CALSCALE:GREGORIAN
METHOD:PUBLISH
BEGIN:VEVENT
SUMMARY:Avant première Finale HMI HOUSE Nanterre
DTSTART:20250422T163000Z
DTSTAMP:20260421T131618Z
CATEGORIES:
DESCRIPTION:
GEO:48.900212;2.213134
LOCATION:200 Allée de Corse 92000 Nanterre - FR
ORGANIZER:Oasis Media
END:VEVENT
END:VCALENDAR
