BEGIN:VCALENDAR
VERSION:2.0
CALSCALE:GREGORIAN
METHOD:PUBLISH
BEGIN:VEVENT
SUMMARY:La fête des familles
DTSTART:20260516T033000Z
DTEND:20260516T060000Z
DTSTAMP:20260420T202308Z
CATEGORIES:
DESCRIPTION:
GEO:48.8114571;2.1427995
LOCATION:7bis Rue Pierre Lescot 78000 Versailles - FR
ORGANIZER:Association Actes29
END:VEVENT
END:VCALENDAR
