BEGIN:VCALENDAR
VERSION:2.0
CALSCALE:GREGORIAN
METHOD:PUBLISH
BEGIN:VEVENT
SUMMARY:Conférence - "Se dépasser par le sport"  | 12 juin 2025
DTSTART:20250612T163000Z
DTSTAMP:20260423T060647Z
CATEGORIES:
DESCRIPTION:Vous cherchez à fédérer vos équipes et à les engager dura
 blement ? Découvrez comment booster la performance en entreprise.\nNous 
 avons le plaisir de vous inviter à la première édition des Gym & Well T
 alks\, un événement conçu pour explorer les liens entre activité physi
 que\, bien-être et performance collective. \nAu programme : une confére
 nce inspirante suivie d’un moment d’échange autour d’un cocktail.\n
 Pour inaugurer ce rendez-vous\, nous aurons l’honneur d’accueillir St
 éphane Houdet\, numéro un français de tennis fauteuil.\nAvec 3 médaill
 es d’or paralympiques\, 54 titres dont 24 victoires en Grand Chelem et u
 ne finale à l’Open d’Australie 2025\, Stéphane Houdet réinvente le 
 tennis fauteuil grâce à un style de jeu unique.\nLégende du tennis et p
 récédemment numéro un européen de handigolf\, ce champion exceptionnel
  incarne parfaitement le dépassement de soi. En partageant son expérienc
 e\, il démontrera à quel point le sport est vecteur de performance.\nNe 
 manquez pas ce rendez-vous pour participer à un moment enrichissant et tr
 ansformer vos pratiques en entreprise.\n \nINFORMATIONS PRATIQUES \n✦ 
 Date : Jeudi 12 juin 2025✦ Lieu : Metal 57 - 50 cours de l’île seguin
 \, 92100 Boulogne Billancourt ✦ Horaires : 18h30 - 20h30\n \n➜ Inscr
 iption gratuite - Attention : Nombre de places limitées !\n \nSportiveme
 nt\,\nL’équipe The Corporate Gym
GEO:48.8265571;2.232739599999999
LOCATION:50 Cours de l'Île Seguin 92100 Boulogne-Billancourt - FR
ORGANIZER:THE CORPORATE GYM
END:VEVENT
END:VCALENDAR
