BEGIN:VCALENDAR
VERSION:2.0
CALSCALE:GREGORIAN
METHOD:PUBLISH
BEGIN:VEVENT
SUMMARY:UNTO. ANTWERP OPENING NIGHT x European Vampire
DTSTART:20250503T180000Z
DTSTAMP:20260419T130817Z
CATEGORIES:
DESCRIPTION:[en_GB]UNTO.Antwerp Presents: A Night of Elixirs\, Cocktails &
  European Vampires\n????Antwerp\, May 3 | INVITATION with Ticket???? \nYo
 u are formally invited to an evening of nocturnal elegance. Step inside UN
 TO.Antwerp — where fashion\, alchemy\, and enchantment collide. Inspired
  by the decadent lore of Paris and London\, this night evokes the glamor o
 f old Paris\, the thrill of hidden spaces\, and the raw\, velvet pulse of 
 Antwerp after dark.\nYour entry includes: ✨ Elixirs and signature cockta
 ils ✨ Live encounters & vampiric vignettes ✨ Access to UNTO's world 
 — a fusion of poetics\, fashion\, and primal desire Dress code: Vampish 
 Parisian. Think séance\, think poetry and raw beauty. Think velvet\, leat
 her\, lace or come as you are\, sensual and sharp. This ticket is your key
 . One night only. Doors close at 10:30pm.\nMay 3rd. We Bite. You come.\n 
 \nUNTO.Antwerp\n 
GEO:51.2192756;4.42475
LOCATION:24 Willem Linnigstraat 2060 Antwerpen - BE
ORGANIZER:DeerWomen
END:VEVENT
END:VCALENDAR
