BEGIN:VCALENDAR
VERSION:2.0
CALSCALE:GREGORIAN
METHOD:PUBLISH
BEGIN:VEVENT
SUMMARY:Temporada Sacra con el Coro Nacional de Guatemala
DTSTART:20250313T220000Z
DTSTAMP:20260421T163637Z
CATEGORIES:
DESCRIPTION:Temporada Sacra Coro Nacional de Guatemala Jueves 13 de marz
 o | 16:00 horas Salón Banquetes\, Palacio Nacional de la Cultura\nEl Co
 ro Nacional de Guatemala te invita a disfrutar del primer concierto de su 
 Temporada Sacra. Este evento presenta melodías tradicionales para conmemo
 rar al maestro Felipe de Jesús Ortega\, un artista y compositor de gran t
 rascendencia en nuestro país y el mundo.\nSi aún no has tenido la oportu
 nidad de vivir esta experiencia única\, te invitamos a acompañarnos y di
 sfrutar de esta extraordinaria presentación.\n¡Reúne a tu familia y ami
 gos y reserva tus boletos gratuitos aquí!
GEO:14.6426439;-90.5131097
LOCATION:6A Avenida  Ciudad de Guatemala - GT
ORGANIZER:Ministerio de Cultura y Deportes
END:VEVENT
END:VCALENDAR
