BEGIN:VCALENDAR
VERSION:2.0
CALSCALE:GREGORIAN
METHOD:PUBLISH
BEGIN:VEVENT
SUMMARY:AFTER WORK L'INSTANT BIÈRES 12/03/2025
DTSTART:20250312T180000Z
DTEND:20250312T200000Z
DTSTAMP:20260419T130848Z
CATEGORIES:
DESCRIPTION:\n	Envie d’une soirée fun et conviviale. Que ce soit en cou
 ple\, entre amis ou en famille\, les fléchettes rassemblent tout le monde
  pour un super moment !\n\n	 \n\n\n		12€ seulement : un tournoi adapté
  à tous et à toutes\n\n		Lieu chaleureux avec possibilité de se restaur
 er\n\n		Places limitées : si tu t’inscris\, viens jouer ! Ne prive pas 
 quelqu’un d’autre de cette expérience\n\n\n	 \n\n	On t’attend pour
  une soirée mémorable !✨\n\n	 \n\n	Ne manquez pas cette occasion de t
 isser des liens tout en vous amusant !✨\n
LOCATION:3 Impasse Palayre 31100 Toulouse - FR
ORGANIZER:Alca Events
END:VEVENT
END:VCALENDAR
