BEGIN:VCALENDAR
VERSION:2.0
CALSCALE:GREGORIAN
METHOD:PUBLISH
BEGIN:VEVENT
SUMMARY:Congrès REUSSIR SUD-OUEST 2025
DTSTART:20250626T063000Z
DTEND:20250626T133000Z
DTSTAMP:20260422T172350Z
CATEGORIES:
DESCRIPTION:Au programme de cette journée :\n• Accueil\, émargement et
  vote.\n• Ouverture de l’Assemblée Générale par le bureau régional
 \, avec une synthèse des actions menées.\n• Annonce des résultats des
  élections et présentation de la nouvelle équipe ainsi que des axes de 
 travail pour les trois années à venir.\n• Conférence thématique sur 
 Le Sinistre et l’Expertise\, en présence de différents experts.\n• 
 Échanges et réponses à vos questions.\n• Déjeuner convivial.\n• Cl
 ôture de l’Assemblée Générale.\n \n \n 
GEO:44.181474;0.6177140000000001
LOCATION:351 Avenue du Midi 47000 Agen - FR
ORGANIZER:REUSSIR
END:VEVENT
END:VCALENDAR
