BEGIN:VCALENDAR
VERSION:2.0
CALSCALE:GREGORIAN
METHOD:PUBLISH
BEGIN:VEVENT
SUMMARY:Les Rebelles - Weekend d'Innovation / Réservé aux femmes / du 7 
 au 9 mars 2025
DTSTART:20250307T170000Z
DTEND:20250309T170000Z
DTSTAMP:20260422T075210Z
CATEGORIES:
DESCRIPTION:“Les Rebelles” est un événement d'innovation intensif su
 r trois jours visant à développer des solutions concrètes aux probléma
 tiques sociétales touchant les femmes dans notre société actuelle. Les 
 thématiques abordées incluent l'égalité salariale homme-femme\, la pla
 ce des femmes dans la tech\, la discrimination à l'embauche des mères\, 
 la sécurité des femmes lors des sorties nocturnes\, et bien d’autres.P
 lanning de l'événementVendredi 7 mars (18h30-20h) - Lancement\n\nPrésen
 tation des problématiques et des enjeux\, séance d’échange pour balay
 er la liste des items (problématiques)\nFormation des équipes pluridisci
 plinaires (chaque participante se greffe sur un item)\nBrainstorming initi
 al et définition des axes de travail par groupe\n\nSamedi 8 mars (9h-18h)
  - Développement\n\nTravail en équipe sur les solutions\nPassage des men
 tors entre 14h et 17h\nAccompagnement par des mentors (femmes cheffes d'en
 treprise)\nSessions de feedback et d'orientation\n\nDimanche 9 mars - Fina
 lisation et Présentation\n\n(9h - 12h) Matin : Préparation des supports 
 de présentation\n(14h - 16h) Après-midi : Entraînement au pitch (1 minu
 te 30) suivi de 3 minutes 30 d’échange question / réponse\n(16h) Remis
 e des projets clôturé\n(17h) Fin d'après-midi : Présentation devant le
  jury\nPitch (1 minute 30) suivi de 3 minutes 30 d’échange question / r
 éponse\n5 slides expliquant\n\n\n\n\nl’équipe (qui ? âge ? ville ? si
 tuation ? nom d’équipe\, nom du projet)\nle projet (la problématique 
 → la solution)\nle why (pourquoi avoir choisi cette problématique)\nles
  moyens / plan d’action / les besoins - attentes (appli\, plateforme\, s
 ite\, livre\, …)\nun ou plusieurs visuel du projet\n\n\n\n\n(18h30) Anno
 nce du projet élu par le jury\nLe groupe vainqueur bénéficiera d’un a
 ccompagnement personnalisé par 42 Perpignan Occitanie et son réseau de p
 artenaires\n\nObjectifs\n\nDévelopper des solutions innovantes pour l'ég
 alité femmes-hommes\nCréer un réseau d'entraide et de mentoring\nSensib
 iliser aux enjeux de la place des femmes dans la société\nEncourager l'e
 ntrepreneuriat féminin\n\nModalités\n\nPublic féminin\, les participant
 es doivent être majeures\nPas de possibilité d’hébergement sur place\
 nRestauration libre (à consommer sur place ou en extérieur)\nParking aé
 rien en ville gratuit\nOrdinateur accessible sur place\, possibilité de v
 enir avec son propre matérielPour toute question : contact@42perpignan.fr
  \n
GEO:42.6987104;2.8886805
LOCATION:5 Rue Pierre Curie 66000 Perpignan - FR
ORGANIZER:42 PERPIGNAN OCCITANIE
END:VEVENT
END:VCALENDAR
