BEGIN:VCALENDAR
VERSION:2.0
CALSCALE:GREGORIAN
METHOD:PUBLISH
BEGIN:VEVENT
SUMMARY:Charisme et Féminité.
DTSTART:20250426T120000Z
DTEND:20250426T150000Z
DTSTAMP:20260422T060607Z
CATEGORIES:
DESCRIPTION:\nEn présence de Nadia Kabongo coach en étiquette et élég
 ance et Lucie Kashala experte en image et développement personnel\,\n\n	
 ces ateliers exclusifs sont conçus pour révéler toute la puissance fém
 inine.\n\nRejoignez-nous pour perfectionner votre posture\, votre élocuti
 on et maîtriser les bonnes manières\, tout en renforçant votre confianc
 e en vous.\n\nVenez vivre une expérience enrichissante dans le 16 ème ar
 rondissement où élégance\, assurance et épanouissement personnel se re
 ncontrent.\n
LOCATION:adresse communiquée après commande 75016 Paris - FR
ORGANIZER:Lupointcom
END:VEVENT
END:VCALENDAR
