BEGIN:VCALENDAR
VERSION:2.0
CALSCALE:GREGORIAN
METHOD:PUBLISH
BEGIN:VEVENT
SUMMARY:Discovery Piscine du 14 au 18 avril 2025 @ 42 Perpignan Occitanie
DTSTART:20250414T070000Z
DTEND:20250418T150000Z
DTSTAMP:20260422T075210Z
CATEGORIES:
DESCRIPTION:Stage d'initiation à la programmation informatique avec la m
 éthode 42 ! \n Découvrez le code et initiez-vous à la programmation !
  \n Date et heure: Du lundi 14 au 18 avril 2025 \, de 9h à 17h \n Lieu:
  42 Perpignan Occitanie\, 5 rue Pierre Curie 66000 Perpignan\nVous avez to
 ujours voulu apprendre à coder mais ne saviez pas par où commencer ? Rej
 oignez-nous pour une expérience immersive de 5 jours où vous découvrire
 z les fondamentaux de la programmation\, même sans aucune expérience pr
 éalable en informatique !\n Pourquoi participer ?\n• Pas besoin de conn
 aissances spécifiques en informatique\n• Programme intensif de 5 jours 
 pour tous à partir de 16 ans\n• Découverte du code\, création de votr
 e première page web avec HTML et CSS\n• Pas de cours traditionnels\, ma
 is un apprentissage collaboratif entre pairs\n• Expérience pratique et 
 concrète\, axée sur les projets\n Comment ça marche ?\n• Inscription 
 gratuite via weezevent\n• Lieu : le campus 42 Perpignan Occitanie\n• H
 oraires : 9h00 - 17h00\, du lundi au vendredi\n À propos de @42Perpignan 
 : Il s'agit d'une formation unique en son genre\, ouverte à tous dès 18 
 ans\, sans limite d'âge ni niveau d'études requis. Avec un taux d'employ
 abilité de 100%\, notre méthode d'apprentissage favorise l'autonomie et 
 la résolution de problèmes concrets.\nInscrivez-vous dès maintenant !\n
 Ne manquez pas cette occasion unique de plonger dans le monde fascinant de
  la programmation avec 42 Perpignan Occitanie ! Inscrivez-vous dès mainte
 nant et préparez-vous à embarquer pour une semaine d'apprentissage enric
 hissante. \n#PiscineDiscovery #42Perpignan #Programmation #Education\n 
GEO:42.6987104;2.8886805
LOCATION:5 Rue Pierre Curie 66000 Perpignan - FR
ORGANIZER:42 PERPIGNAN OCCITANIE
END:VEVENT
END:VCALENDAR
