BEGIN:VCALENDAR
VERSION:2.0
CALSCALE:GREGORIAN
METHOD:PUBLISH
BEGIN:VEVENT
SUMMARY:Héritières d'ici - 5 à 7 festif et histoire au féminin
DTSTART:20241121T220000Z
DTEND:20241122T000000Z
DTSTAMP:20260424T130253Z
CATEGORIES:
DESCRIPTION:\n	Le comité Leadership au Féminin de la Jeune Chambre de Dr
 ummond vous invite à un 5 à 7 festif sous la thématique Héritières d
 ’ici – Histoire au féminin !\n\n	La Société d’histoire de Drummo
 nd vous ouvre les portes de ses magnifiques locaux ! Cet organisme à but 
 non lucratif\, dirigé par des passionnés\, a pour mission de faire conna
 ître l’histoire et les valeurs patrimoniales de la MRC de Drummond. La 
 Société vous réserve de belles surprises !\n\n	Venez réseauter et déc
 ouvrir le parcours inspirant de femmes ayant marqué Drummondville. Ce 5 
 à 7 inclusif vous offrira également l’opportunité d’échanger sur d
 es thématiques variées autour de la place des femmes dans les sphères p
 olitique\, économique et culturelle.\n\n	C’est un rendez-vous aux locau
 x de la Société situés à la Bibliothèque publique de Drummondville le
  21 novembre prochain dès 17 h !\n
LOCATION:425\, rue des Forges J2B 6W3 Drummondville - CA
ORGANIZER:Jeune Chambre de Drummond
END:VEVENT
END:VCALENDAR
