BEGIN:VCALENDAR
VERSION:2.0
CALSCALE:GREGORIAN
METHOD:PUBLISH
BEGIN:VEVENT
SUMMARY:Spectacle des fêtes - 2024
DTSTART:20241214T150000Z
DTEND:20241214T170000Z
DTSTAMP:20260422T214316Z
CATEGORIES:
DESCRIPTION:\nEn provenance de leur banquise lointaine\, marchant pieds de
  côté\, trois pingouins musiciens viennent aux festivités du pôle Nord
 . Pour participer à la fête\, ils doivent composer une chanson de Noël 
 originale en quelques minutes. Amatin\, Ademain et Atemplein trouveront-il
 s l’inspiration? Seront-ils prêts à temps pour cette soirée inoubliab
 le? \n
LOCATION:1560 R. Sherbrooke E H2L 4M1 Montréal - CA
ORGANIZER:CIUSSS du Centre-Sud-de-l’Île-de-Montréal
END:VEVENT
END:VCALENDAR
