BEGIN:VCALENDAR
VERSION:2.0
CALSCALE:GREGORIAN
METHOD:PUBLISH
BEGIN:VEVENT
SUMMARY:Oktoberfest au Beer Truck des Alpes
DTSTART:20241005T090000Z
DTEND:20241005T200000Z
DTSTAMP:20260422T173546Z
CATEGORIES:
DESCRIPTION:\nChoucroute géante sur réservation \n\nEvénement en exté
 rieur soumis aux aléas météorologiques\, annulé en cas d'intempéries.
 \n
LOCATION:68 RUE DES ALPES 38350 LA MURE - FR
ORGANIZER:Beer Truck des Alpes
END:VEVENT
END:VCALENDAR
