BEGIN:VCALENDAR
VERSION:2.0
CALSCALE:GREGORIAN
METHOD:PUBLISH
BEGIN:VEVENT
SUMMARY:Club de lectura - Gran Plaza 2: Rivales Divinos de Rebecca Ross
DTSTART:20240919T170000Z
DTSTAMP:20260424T170042Z
CATEGORIES:
DESCRIPTION:Inauguramos nuestro club de lectura en el C.C Gran Plaza 2 con
  el libro Rivales Divinos de Rebecca Ross.\nTe esperamos el 19 de Septiemb
 re a las 19:00. \nÚnete a nuestro club de lectura y descubre cómo el po
 der de las palabras puede unir corazones en tiempos de guerra\, y donde el
  amor y la valentía se entrelazan en cada página.\nPara cualquier inform
 ación\, no dudes en contactarnos : \n\n@unacortedelectoresydragones \n\
 n¡Te esperamos! 
GEO:40.49141059999999;-3.8987461
LOCATION:2 Calle de los Químicos 28222 Majadahonda - ES
END:VEVENT
END:VCALENDAR
