BEGIN:VCALENDAR
VERSION:2.0
CALSCALE:GREGORIAN
METHOD:PUBLISH
BEGIN:VEVENT
SUMMARY:Fais de ton été un TREMPLIN
DTSTART:20240620T160000Z
DTEND:20240620T180000Z
DTSTAMP:20260421T170957Z
CATEGORIES:
DESCRIPTION:\nNe pars pas en vacances stressé.e ! On va oublier le quotid
 ien et se projeter ensemble pour une nouvelle aventure pro.\n\nPeut etre t
 u cherches un job\, peut etre tu ne sais pas encore si tu ne vas pas monte
 r ta boite..\n\ntu peux etre encore en poste ou tu viens de quitter. \n\n
 De toute facon on est la! \n\nOn réfléchit avant et surtout je t'aide 
 à te projeter\, identifier des pistes pour ton avenir pro.\n\nDis moi aus
 si comment t'aider sur ce sujet car c'est une grande première. On va le f
 aire en format court\, format rapide. Chez Happy CEO on le fait en format 
 long. J'ai des demandes pour des formats plus courts et des besoins préci
 s. Allez on essaie! \n\n	Je vais t'aider à profiter plainement de ton Et
 e. On va reflechir 2h dessus.\n\n	Prends ta place offerte.  \n\nViens tr
 availler ta posture\, essayer des approches différentes avec lesquelles v
 ous vous sentirez plus à l'aise. C'ets un hyper sensible qui parle....\n\
 nOui j'ai un énorme passé de multinationale en marketing et commercial e
 t pourtant c'est ma sensibilité qui me sert aussi tout le temps. \n\nvie
 ns voir. Inscris toi vite car ce genre de workshop est vite complet! \n\n
 1ers arrivés 1ers servis! \n\nAucun replay. Chez Coach Blum on dit des t
 rucs tres perso qu'on ne dit pas ailleurs et les discussions ne circulent 
 pas apres! \n\nJe t'attends.\n\n	Coach BLUM\n\n	 \n\nImportant: chez Coa
 ch BLUM on ne juge personne\, on bosse\, on avance...dans la bonne humeur!
 ! ...\n\nje suis un optimiste. Je sais que tu peux y arriver mais il faut 
 bosser. Alors viens\, monte dans le train!! \n\n	 \n
LOCATION:   
ORGANIZER:B2NewBiz Coaching
END:VEVENT
END:VCALENDAR
