BEGIN:VCALENDAR
VERSION:2.0
CALSCALE:GREGORIAN
METHOD:PUBLISH
BEGIN:VEVENT
SUMMARY:Breizh Disorder
DTSTART:20240727T170000Z
DTEND:20240727T230000Z
DTSTAMP:20260425T033112Z
CATEGORIES:
DESCRIPTION:\nCONCERT BREIZH DISORDER dans les Jardins de l'Emeché à Qui
 mper !\n\n2 scènes / Bar / Bouffe / Marché d'artisans l'après midi \n\n
 PROG :\n\nScène chapiteau : \n\n- 20h50 Evil Dad (Reprises métal)\n	- 21
 h30 Beer Beer Orchestra (SKA !)\n	- 23h00 The Choices (Punk Rock)\n\nScèn
 e Bar :\n\n- 21h00 Hangover (Punk HxC)\n	- 22h30 Clava (Crust Punk)\n	- 00
 h00 Slashers (Horror Punk)\n\nOUVERTURE DES PORTES A 19HOO\n\n	 \n
LOCATION:Boulevard Amiral de Kerguélen 29000 Quimper - FR
ORGANIZER:MASS PRODUCTIONS
END:VEVENT
END:VCALENDAR
